BEGIN:VCALENDAR
VERSION:2.0
PRODID:KKTIX
CALSCALE:GREGORIAN
METHOD:PUBLISH
BEGIN:VTIMEZONE
TZID:Asia/Taipei
END:VTIMEZONE
BEGIN:VEVENT
DTSTAMP:20260424T183131Z
UID:bd4559be-450d-48dc-8ddc-be373c63bada
DTSTART:20150403T070000Z
DTEND:20150405T155900Z
CLASS:PUBLIC
DESCRIPTION:https://odin.kktix.cc/events/kentingfoamparty2015
LOCATION: (屏東縣恆春鎮墾丁路2號) 墾丁福華渡假飯店D棟廣
 場
SUMMARY:2015 Kenting Foam Party墾丁泡泡音樂節
END:VEVENT
END:VCALENDAR
